BEGIN:VCALENDAR
VERSION:2.0
PRODID:icalendar-ruby
CALSCALE:GREGORIAN
METHOD:PUBLISH
BEGIN:VTIMEZONE
TZID:Europe/Vienna
BEGIN:DAYLIGHT
DTSTART:20250330T030000
TZOFFSETFROM:+0100
TZOFFSETTO:+0200
RRULE:FREQ=YEARLY;BYDAY=-1SU;BYMONTH=3
TZNAME:CEST
END:DAYLIGHT
BEGIN:STANDARD
DTSTART:20251026T020000
TZOFFSETFROM:+0200
TZOFFSETTO:+0100
RRULE:FREQ=YEARLY;BYDAY=-1SU;BYMONTH=10
TZNAME:CET
END:STANDARD
END:VTIMEZONE
BEGIN:VEVENT
DTSTAMP:20260424T114333Z
UID:6687bf08e3d0a074618606@ist.ac.at
DTSTART:20250520T161500
DTEND:20250520T171500
DESCRIPTION:Speaker: Mathieu Lewin\nhosted by Robert Seiringer\nAbstract: F
 or a given one-particle density\, we consider the distribution of classica
 l electrons that reproduces this density and minimizes the Coulomb energy.
  This is an optimal transport problem. In this talk we ask whether we can 
 do better by allowing the number of electrons to fluctuate (grand-canonica
 l problem) and\, if so\, what is the optimal range of fluctuation. An answ
 er to these questions gives a counterexample to a famous conjecture for qu
 antum electrons. Collaboration with Simone Di Marino (Genova) and Luca Nen
 na (Paris-Saclay).
LOCATION:Office Bldg West / Ground floor / Heinzel Seminar Room (I21.EG.101
 )\, ISTA
ORGANIZER:boosthui@ist.ac.at
SUMMARY:Mathieu Lewin: Grand-canonical optimal transport and a counterexamp
 le to the convexity conjecture in quantum mechanics
URL:https://talks-calendar.ista.ac.at/events/5807
END:VEVENT
END:VCALENDAR
