BEGIN:VCALENDAR
VERSION:2.0
PRODID:icalendar-ruby
CALSCALE:GREGORIAN
METHOD:PUBLISH
BEGIN:VTIMEZONE
TZID:Europe/Vienna
BEGIN:DAYLIGHT
DTSTART:20250330T030000
TZOFFSETFROM:+0100
TZOFFSETTO:+0200
RRULE:FREQ=YEARLY;BYDAY=-1SU;BYMONTH=3
TZNAME:CEST
END:DAYLIGHT
BEGIN:STANDARD
DTSTART:20251026T020000
TZOFFSETFROM:+0200
TZOFFSETTO:+0100
RRULE:FREQ=YEARLY;BYDAY=-1SU;BYMONTH=10
TZNAME:CET
END:STANDARD
END:VTIMEZONE
BEGIN:VEVENT
DTSTAMP:20260424T202019Z
UID:6687bf08e3d40364000917@ist.ac.at
DTSTART:20250701T161500
DTEND:20250701T171500
DESCRIPTION:Speaker: Florian Theil\nhosted by Julian Fischer\nAbstract: Ela
 stoplastic models are typically written in the form of a rate-independent 
 evolution which is characterised by the dissipation potential and the elas
 tic energy. We will compare the continuum version of elasto-plasticity wit
 h a model for dislocation motion which also takes the form of a rate-indep
 endent evolution. For a suitable choice of the dissipation potential\, we 
 can show at least informally\, that the dislocation evolution converges to
  an elasto-plastic evolution.
LOCATION:Office Bldg West / Ground floor / Heinzel Seminar Room (I21.EG.101
 )\, ISTA
ORGANIZER:boosthui@ist.ac.at
SUMMARY:Florian Theil: Dislocation motion and plasticity
URL:https://talks-calendar.ista.ac.at/events/5788
END:VEVENT
END:VCALENDAR
