BEGIN:VCALENDAR
VERSION:2.0
PRODID:icalendar-ruby
CALSCALE:GREGORIAN
METHOD:PUBLISH
BEGIN:VTIMEZONE
TZID:Europe/Vienna
BEGIN:DAYLIGHT
DTSTART:20250330T030000
TZOFFSETFROM:+0100
TZOFFSETTO:+0200
RRULE:FREQ=YEARLY;BYDAY=-1SU;BYMONTH=3
TZNAME:CEST
END:DAYLIGHT
BEGIN:STANDARD
DTSTART:20251026T020000
TZOFFSETFROM:+0200
TZOFFSETTO:+0100
RRULE:FREQ=YEARLY;BYDAY=-1SU;BYMONTH=10
TZNAME:CET
END:STANDARD
END:VTIMEZONE
BEGIN:VEVENT
DTSTAMP:20260424T090505Z
UID:648ae4752c728096689576@ist.ac.at
DTSTART:20250522T130000
DTEND:20250522T150000
DESCRIPTION:Speaker: Vladimir Dokchitser\nhosted by Tim Browning\nAbstract:
  I will describe a number of unexplained arithmetic phenomena about ration
 al points on elliptic curves that are predicted by the Birch-Swinnerton-Dy
 er conjecture. This will primarily be a survey and hopefully very light on
  technical details\, although there will also be a couple of new examples.
  The latter are joint work with Lilybelle Cowland Kellock.
LOCATION:Office Bldg West / Ground floor / Heinzel Seminar Room (I21.EG.101
 )\, ISTA
ORGANIZER:boosthui@ist.ac.at
SUMMARY:Vladimir Dokchitser: Elliptic curves: parity phenomena
URL:https://talks-calendar.ista.ac.at/events/5777
END:VEVENT
END:VCALENDAR
