BEGIN:VCALENDAR
VERSION:2.0
PRODID:icalendar-ruby
CALSCALE:GREGORIAN
METHOD:PUBLISH
BEGIN:VTIMEZONE
TZID:Europe/Vienna
BEGIN:DAYLIGHT
DTSTART:20260329T030000
TZOFFSETFROM:+0100
TZOFFSETTO:+0200
RRULE:FREQ=YEARLY;BYDAY=-1SU;BYMONTH=3
TZNAME:CEST
END:DAYLIGHT
BEGIN:STANDARD
DTSTART:20251026T020000
TZOFFSETFROM:+0200
TZOFFSETTO:+0100
RRULE:FREQ=YEARLY;BYDAY=-1SU;BYMONTH=10
TZNAME:CET
END:STANDARD
END:VTIMEZONE
BEGIN:VEVENT
DTSTAMP:20260424T141020Z
UID:1763980200@ist.ac.at
DTSTART:20251124T113000
DTEND:20251124T123000
DESCRIPTION:Speaker: Seigo Tarucha\nhosted by Georgios Katsaros \nAbstract:
  Quantum computing (QC) is generally defined as computation based on the p
 rinciples of quantum mechanics\, including superposition\, entanglement\, 
 and parallelism. It is expected to efficiently address complex problems in
  simulation\, optimization\, cryptography\, and machine learning. Research
  on QC has progressed rapidly from theoretical studies to experimental imp
 lementation across various quantum platforms\, such as superconducting cir
 cuits.Among these\, semiconductor-based QC\, though initiated several year
 s later\, has recently attracted increasing attention due to the long intr
 insic coherence times of spin qubits\, their small footprint\, and the com
 patibility of device processing with advanced semiconductor manufacturing 
 technology. Major semiconductor companies\, including Intel\, Imec\, and C
 EA-Leti\, as well as startups\, are now actively developing qubit devices.
 In our work\, we focus on the physics of silicon quantum dot devices that 
 use electron spins as qubits\, exploring both their fundamental properties
  and applications to QC. In this talk\, I will first describe key elements
  in operating spin qubits\, including initialization\, readout\, gate oper
 ations\, entanglement control\, and the effects of noise on spin dynamics 
 that limit performance. I will then review recent challenges in advancing 
 toward scalable QC\, focusing on fault-tolerant operations\, error correct
 ion\, and pathways to large-scale integration.
LOCATION:Raiffeisen Lecture Hall\, ISTA
ORGANIZER:diana.gruber@ista.ac.at
SUMMARY:Seigo Tarucha: Challenges in Semiconductor Quantum Computing 
URL:https://talks-calendar.ista.ac.at/events/5774
END:VEVENT
END:VCALENDAR
