BEGIN:VCALENDAR
VERSION:2.0
PRODID:icalendar-ruby
CALSCALE:GREGORIAN
METHOD:PUBLISH
BEGIN:VTIMEZONE
TZID:Europe/Vienna
BEGIN:DAYLIGHT
DTSTART:20250330T030000
TZOFFSETFROM:+0100
TZOFFSETTO:+0200
RRULE:FREQ=YEARLY;BYDAY=-1SU;BYMONTH=3
TZNAME:CEST
END:DAYLIGHT
BEGIN:STANDARD
DTSTART:20251026T020000
TZOFFSETFROM:+0200
TZOFFSETTO:+0100
RRULE:FREQ=YEARLY;BYDAY=-1SU;BYMONTH=10
TZNAME:CET
END:STANDARD
END:VTIMEZONE
BEGIN:VEVENT
DTSTAMP:20260425T193308Z
UID:67fcc0a2a53c8198079196@ist.ac.at
DTSTART:20250424T140000
DTEND:20250424T150000
DESCRIPTION:Speaker: Takashi Hiiragi\nhosted by Edouard Hannezo\nAbstract: 
 Tissue patterning depends on the coordination between cellular dynamics\, 
 fate specification and tissue morphogenesis. Understanding how precision i
 n patterning is robustly achieved despite the inherent developmental varia
 bility remains a challenge. Our group aims to understand the design princi
 ple of multi-cellular organisms using early mammalian embryos as a model s
 ystem. Our studies showed that feedbacks between cell fate\, polarity and 
 cell/tissue mechanics underlie the robust formation of early mouse embryos
 . I will discuss our recent work that presents yet another mechanism that 
 ensures robustness in development.
LOCATION:Mondi Seminar Room 2\, Central Building\, ISTA
ORGANIZER:cpetz@ist.ac.at
SUMMARY:Takashi Hiiragi: Optimality for developmental robustness
URL:https://talks-calendar.ista.ac.at/events/5708
END:VEVENT
END:VCALENDAR
