BEGIN:VCALENDAR
VERSION:2.0
PRODID:icalendar-ruby
CALSCALE:GREGORIAN
METHOD:PUBLISH
BEGIN:VTIMEZONE
TZID:Europe/Vienna
BEGIN:DAYLIGHT
DTSTART:20250330T030000
TZOFFSETFROM:+0100
TZOFFSETTO:+0200
RRULE:FREQ=YEARLY;BYDAY=-1SU;BYMONTH=3
TZNAME:CEST
END:DAYLIGHT
BEGIN:STANDARD
DTSTART:20251026T020000
TZOFFSETFROM:+0200
TZOFFSETTO:+0100
RRULE:FREQ=YEARLY;BYDAY=-1SU;BYMONTH=10
TZNAME:CET
END:STANDARD
END:VTIMEZONE
BEGIN:VEVENT
DTSTAMP:20260424T040542Z
UID:67c99a8b04c8e813509744@ist.ac.at
DTSTART:20250515T110000
DTEND:20250515T120000
DESCRIPTION:Speaker: Joshua Dijksman\nhosted by Scott Waitukaitis\nAbstract
 : You know the nearer your destination\, the more // you realize you dont 
 understand rheology. Take the case of dense hydrogel suspensions. These so
 lid-fluid like materials display a myriad of remarkable features. The micr
 oscopic origin of their behavior is poorly understood\, despite them being
  just a collection of simple\, soft\, slippery particles. We test the hydr
 ogel packing mechanics via rheology and custom intruder tests\, both in tr
 ansient and steady state normal and rotation driving\, and via stress and 
 strain control modes. Our findings highlight the short\, strong but reprod
 ucible shear history dependence of the packing\, various rate dependencies
  and a sensitivity to boundary conditions. The results will be discussed i
 n the context of the observed relaxation dynamics in particle-level contac
 t mechanics.[1] J.A. Dijksman\, T. Mullin\, Confinement controls the creep
  rate in soft granular packings\, Soft Matter 20 4015 (2025)[2] J.A. Dijks
 man\, T. Mullin\, Creep control in soft particle packings. Physical Review
  Letters 128 238002 (2022)
LOCATION:Moonstone Bldg / Ground floor / Seminar Room F (I24.EG.030f)\, IST
 A
ORGANIZER:cpetz@ist.ac.at
SUMMARY:Joshua Dijksman: Slip Slidin’ Away
URL:https://talks-calendar.ista.ac.at/events/5704
END:VEVENT
END:VCALENDAR
