BEGIN:VCALENDAR
VERSION:2.0
PRODID:icalendar-ruby
CALSCALE:GREGORIAN
METHOD:PUBLISH
BEGIN:VTIMEZONE
TZID:Europe/Vienna
BEGIN:DAYLIGHT
DTSTART:20250330T030000
TZOFFSETFROM:+0100
TZOFFSETTO:+0200
RRULE:FREQ=YEARLY;BYDAY=-1SU;BYMONTH=3
TZNAME:CEST
END:DAYLIGHT
BEGIN:STANDARD
DTSTART:20251026T020000
TZOFFSETFROM:+0200
TZOFFSETTO:+0100
RRULE:FREQ=YEARLY;BYDAY=-1SU;BYMONTH=10
TZNAME:CET
END:STANDARD
END:VTIMEZONE
BEGIN:VEVENT
DTSTAMP:20260424T040726Z
UID:1746698400@ist.ac.at
DTSTART:20250508T120000
DTEND:20250508T150000
DESCRIPTION:Speaker: Gregory Vladimer\nhosted by Sophia Hannes
LOCATION:Sunstone Building\, ISTA
ORGANIZER:diana.gruber@ista.ac.at
SUMMARY:Gregory Vladimer: xista Talk
URL:https://talks-calendar.ista.ac.at/events/5700
END:VEVENT
END:VCALENDAR
