BEGIN:VCALENDAR
VERSION:2.0
PRODID:icalendar-ruby
CALSCALE:GREGORIAN
METHOD:PUBLISH
BEGIN:VTIMEZONE
TZID:Europe/Vienna
BEGIN:DAYLIGHT
DTSTART:20250330T030000
TZOFFSETFROM:+0100
TZOFFSETTO:+0200
RRULE:FREQ=YEARLY;BYDAY=-1SU;BYMONTH=3
TZNAME:CEST
END:DAYLIGHT
BEGIN:STANDARD
DTSTART:20251026T020000
TZOFFSETFROM:+0200
TZOFFSETTO:+0100
RRULE:FREQ=YEARLY;BYDAY=-1SU;BYMONTH=10
TZNAME:CET
END:STANDARD
END:VTIMEZONE
BEGIN:VEVENT
DTSTAMP:20260424T170538Z
UID:1747299600@ist.ac.at
DTSTART:20250515T110000
DTEND:20250515T120000
DESCRIPTION:Speaker: Aravind Devarakonda | Assistant Professor of Applied P
 hysics\nhosted by Latha Venkataraman \nAbstract: Manipulating materials at
  the atomic scale often drives advances in fundamental condensed matter ph
 ysics. In this talk\, I will introduce our newly established group’s app
 roach combining materials synthesis\, advanced characterization\, and devi
 ce fabrication to achieve such control to ultimately create new quantum ma
 terials.First\, I will highlight a new family of bulk van der Waals (vdW) 
 superlattices derived from transition metal dichalcogenides\, where reduce
 d dimensionality and both in-plane and out-of-plane structural modulations
  give rise to novel electronic phases\, for example\, unconventional\, spa
 tially modulated superconductivity\; I will connect these results from bul
 k compounds to contemporary work on other periodically modulated structure
 s such as moiré materials. Then I will discuss the van der Waals metal Pd
 5AlI2\, where a particular combination of atomic orbitals (i.e.\, chemistr
 y) “decorating” a primitive square lattice gives rise to an electronic
  structure analogous to the 2D Lieb lattice model.I will conclude by looki
 ng forward and outlining our efforts to combine bulk materials and vdW het
 erostructure methods to unlock new ways of manipulating structure\, symmet
 ry\, and chemistry\, and novel quantum behavior therein.
LOCATION:Office Building West/Ground Floor/Heinzel Seminar Room\, ISTA
ORGANIZER:Rita.Pacarada@ist.ac.at
SUMMARY:Aravind Devarakonda | Assistant Professor of Applied Physics: Latti
 ce and Superlattice Engineering of Quantum Materials 
URL:https://talks-calendar.ista.ac.at/events/5693
END:VEVENT
END:VCALENDAR
