BEGIN:VCALENDAR
VERSION:2.0
PRODID:icalendar-ruby
CALSCALE:GREGORIAN
METHOD:PUBLISH
BEGIN:VTIMEZONE
TZID:Europe/Vienna
BEGIN:DAYLIGHT
DTSTART:20250330T030000
TZOFFSETFROM:+0100
TZOFFSETTO:+0200
RRULE:FREQ=YEARLY;BYDAY=-1SU;BYMONTH=3
TZNAME:CEST
END:DAYLIGHT
BEGIN:STANDARD
DTSTART:20251026T020000
TZOFFSETFROM:+0200
TZOFFSETTO:+0100
RRULE:FREQ=YEARLY;BYDAY=-1SU;BYMONTH=10
TZNAME:CET
END:STANDARD
END:VTIMEZONE
BEGIN:VEVENT
DTSTAMP:20260424T074458Z
UID:67e5005c28f58618937862@ist.ac.at
DTSTART:20250409T100000
DTEND:20250409T110000
DESCRIPTION:Speaker: Daniela Megrian\nhosted by Martin Loose\nAbstract: The
  bacterial cell envelope is a physical barrier and constitutes the primary
  defense system of bacteria. During propagation\, the cell envelope enlarg
 es and divides to generate two daughter cells. These mechanisms have been 
 studied extensively in model organisms such as Escherichia coli and Bacill
 us subtilis. However\, diverse bacterial lineages exhibit alternative stra
 tegies for cell division and envelope remodeling that differ significantly
  from these well-characterized models. One striking example is the Mycobac
 teriales a large order that includes important human pathogens such as Myc
 obacterium tuberculosis and Corynebacterium diphtheriae where many cell cy
 cle components described in model organisms have either been lost or repla
 ced. These alternative machineries highlight the evolutionary plasticity o
 f bacterial cell division and emphasize the importance of expanding our kn
 owledge beyond model organisms to better understand these processes and de
 velop more effective treatments.
LOCATION:Sunstone Bldg / Ground floor / Big Seminar Room A / 27 seats (I23.
 EG.102)\, ISTA
ORGANIZER:rpacarad@ist.ac.at
SUMMARY:Daniela Megrian: Alternative mechanisms for the same goal: diversit
 y and evolution of the bacterial cell division machinery
URL:https://talks-calendar.ista.ac.at/events/5678
END:VEVENT
END:VCALENDAR
