BEGIN:VCALENDAR
VERSION:2.0
PRODID:icalendar-ruby
CALSCALE:GREGORIAN
METHOD:PUBLISH
BEGIN:VTIMEZONE
TZID:Europe/Vienna
BEGIN:DAYLIGHT
DTSTART:20250330T030000
TZOFFSETFROM:+0100
TZOFFSETTO:+0200
RRULE:FREQ=YEARLY;BYDAY=-1SU;BYMONTH=3
TZNAME:CEST
END:DAYLIGHT
BEGIN:STANDARD
DTSTART:20251026T020000
TZOFFSETFROM:+0200
TZOFFSETTO:+0100
RRULE:FREQ=YEARLY;BYDAY=-1SU;BYMONTH=10
TZNAME:CET
END:STANDARD
END:VTIMEZONE
BEGIN:VEVENT
DTSTAMP:20260424T040548Z
UID:1744023600@ist.ac.at
DTSTART:20250407T130000
DTEND:20250407T140000
DESCRIPTION:Speaker: Robert Haase\nAbstract: Join us for an insightful lect
 ure titled "Learning and Teaching Bio-image Analysis in the Age of AI" by 
 Robert Haase. Dr. Haase is a renowned expert in bio-image analysis and art
 ificial intelligence. He is currently a lecturer and training coordinator 
 at Leipzig University's Data Science Center and ScaDS.AI Dresden/Leipzig\,
  where he focuses on developing AI-based methods for analyzing complex bio
 logical images. In this talk\, he will explore innovative strategies for i
 ntegrating AI into bio-image analysis\, offering valuable perspectives for
  both educators and researchers in the field.
LOCATION:Moonstone Seminar Center Room E\, ISTA
ORGANIZER:
SUMMARY:Robert Haase: Learning and Teaching Bio-image Analysis in the Age o
 f AI
URL:https://talks-calendar.ista.ac.at/events/5677
END:VEVENT
END:VCALENDAR
