BEGIN:VCALENDAR
VERSION:2.0
PRODID:icalendar-ruby
CALSCALE:GREGORIAN
METHOD:PUBLISH
BEGIN:VTIMEZONE
TZID:Europe/Vienna
BEGIN:DAYLIGHT
DTSTART:20250330T030000
TZOFFSETFROM:+0100
TZOFFSETTO:+0200
RRULE:FREQ=YEARLY;BYDAY=-1SU;BYMONTH=3
TZNAME:CEST
END:DAYLIGHT
BEGIN:STANDARD
DTSTART:20241027T020000
TZOFFSETFROM:+0200
TZOFFSETTO:+0100
RRULE:FREQ=YEARLY;BYDAY=-1SU;BYMONTH=10
TZNAME:CET
END:STANDARD
END:VTIMEZONE
BEGIN:VEVENT
DTSTAMP:20260424T114233Z
UID:67dd128729fab144629280@ist.ac.at
DTSTART:20250324T154500
DTEND:20250324T170000
DESCRIPTION:Speaker: Andres Alberto Contreras Hip\nhosted by Laszlo Erdös\
 , Jan Maas\nAbstract: In this talk we consider the open one-dimensional KP
 Z equation on the interval $[0\,L]$ with Neumann boundary conditions. For 
 $L \\sim t^{\\alpha}$ and stationary initial conditions\, we obtain matchi
 ng upper and lower bounds on the variance of the height function for $\\al
 pha \\in [0\,\\frac23]$ for different choices of the boundary parameters. 
 Additionally\, for fixed $L$ and an arbitrary probability measure as initi
 al conditions\, we show Gaussian fluctuations for the height function as $
 t\\to \\infty$. Joint work with Sayan Das and Antonios Zitridis.
LOCATION:Central Bldg / O1 / Mondi 2a (I01.O1.008)\, ISTA
ORGANIZER:boosthui@ist.ac.at
SUMMARY:Andres Alberto Contreras Hip: Gaussian fluctuations for the open on
 e-dimensional KPZ equation
URL:https://talks-calendar.ista.ac.at/events/5671
END:VEVENT
END:VCALENDAR
