BEGIN:VCALENDAR
VERSION:2.0
PRODID:icalendar-ruby
CALSCALE:GREGORIAN
METHOD:PUBLISH
BEGIN:VTIMEZONE
TZID:Europe/Vienna
BEGIN:DAYLIGHT
DTSTART:20250330T030000
TZOFFSETFROM:+0100
TZOFFSETTO:+0200
RRULE:FREQ=YEARLY;BYDAY=-1SU;BYMONTH=3
TZNAME:CEST
END:DAYLIGHT
BEGIN:STANDARD
DTSTART:20251026T020000
TZOFFSETFROM:+0200
TZOFFSETTO:+0100
RRULE:FREQ=YEARLY;BYDAY=-1SU;BYMONTH=10
TZNAME:CET
END:STANDARD
END:VTIMEZONE
BEGIN:VEVENT
DTSTAMP:20260424T143301Z
UID:1746601200@ist.ac.at
DTSTART:20250507T090000
DTEND:20250509T130000
DESCRIPTION:hosted by Ylva Götberg\nAbstract: The 4th in-person workshop f
 or the “X-Shooting Ullyses” (XShootU) project (https://massivestars.o
 rg/xshootu/) will be held during 2.5 days from 7 to 9 of May 2025. The XS
 hootU project aims to obtain optical spectra for all massive star targets 
 observed in the ultraviolet spectral range through the ULLYSES program (h
 ttps://ullyses.stsci.edu/)\, thus reaching firmer constraints on massive s
 tellar properties. During the meeting\, we will on the one hand hold sever
 al presentations about the latest results from XShootU (and related projec
 ts)\, and\, on the other hand\, have ample opportunity to hold in-depth di
 scussions on topics related to for example– model atmospheres\,– stell
 ar winds\, – stellar evolution\,– ionizing feedback\, and\, – stel
 lar spectral population synthesis modeling
LOCATION:Moonstone Seminar Center\, ISTA
ORGANIZER:diana.gruber@ista.ac.at
SUMMARY:XSHOOTU Workshop
URL:https://talks-calendar.ista.ac.at/events/5645
END:VEVENT
END:VCALENDAR
