BEGIN:VCALENDAR
VERSION:2.0
PRODID:icalendar-ruby
CALSCALE:GREGORIAN
METHOD:PUBLISH
BEGIN:VTIMEZONE
TZID:Europe/Vienna
BEGIN:DAYLIGHT
DTSTART:20250330T030000
TZOFFSETFROM:+0100
TZOFFSETTO:+0200
RRULE:FREQ=YEARLY;BYDAY=-1SU;BYMONTH=3
TZNAME:CEST
END:DAYLIGHT
BEGIN:STANDARD
DTSTART:20241027T020000
TZOFFSETFROM:+0200
TZOFFSETTO:+0100
RRULE:FREQ=YEARLY;BYDAY=-1SU;BYMONTH=10
TZNAME:CET
END:STANDARD
END:VTIMEZONE
BEGIN:VEVENT
DTSTAMP:20260424T143348Z
UID:648ae475258e1575067241@ist.ac.at
DTSTART:20250320T130000
DTEND:20250320T150000
DESCRIPTION:Speaker: Katy Woo\nhosted by Tim Browning\nAbstract: We resolve
  Manin's conjecture for all Chtelet surfaces over Q (surfaces given by equ
 ations of the form x^2 + ay^2 = f(z)) -- we establish asymptotics for the 
 number of rational points of increasing height. The key analytic ingredien
 t is estimating sums of Fourier coefficients of modular forms along polyno
 mial values.
LOCATION:Office Bldg West / Ground floor / Heinzel Seminar Room (I21.EG.101
 )\, ISTA
ORGANIZER:boosthui@ist.ac.at
SUMMARY:Katy Woo: Manin's conjecture for Châtelet surfaces
URL:https://talks-calendar.ista.ac.at/events/5636
END:VEVENT
END:VCALENDAR
