BEGIN:VCALENDAR
VERSION:2.0
PRODID:icalendar-ruby
CALSCALE:GREGORIAN
METHOD:PUBLISH
BEGIN:VTIMEZONE
TZID:Europe/Vienna
BEGIN:DAYLIGHT
DTSTART:20250330T030000
TZOFFSETFROM:+0100
TZOFFSETTO:+0200
RRULE:FREQ=YEARLY;BYDAY=-1SU;BYMONTH=3
TZNAME:CEST
END:DAYLIGHT
BEGIN:STANDARD
DTSTART:20241027T020000
TZOFFSETFROM:+0200
TZOFFSETTO:+0100
RRULE:FREQ=YEARLY;BYDAY=-1SU;BYMONTH=10
TZNAME:CET
END:STANDARD
END:VTIMEZONE
BEGIN:VEVENT
DTSTAMP:20260424T143434Z
UID:648ae47524c87106577328@ist.ac.at
DTSTART:20250313T130000
DTEND:20250313T150000
DESCRIPTION:Speaker: Erez Lapid\nhosted by Tamas Hausel\nAbstract: Represen
 tation theory of reductive groups over local non archimedean fields goes b
 ack to Gelfand in the 1940s.It plays a key role in the Langlands program a
 nd has a vast history. The case of the general linear group is particularl
 y important.It was studied in the seminal work of Bernstein--Zelevinsky in
  the 1970s. Later on\, connections with other aspects ofrepresentation the
 ory\, such as quantum groups\, shed new light on the theory.In this talk I
  will discuss some basic themes in the theory and several relatively new c
 onjectures and results on the structureof parabolic induction.Partly based
  on joint work with A. Minguez\, A. Aizenbud and M. Gurevich.No priori fam
 iliarity with the subject will be assumed.
LOCATION:Office Bldg West / Ground floor / Heinzel Seminar Room (I21.EG.101
 )\, ISTA
ORGANIZER:boosthui@ist.ac.at
SUMMARY:Erez Lapid: Representations of general linear groups over local non
 -archimedean fields: old and new
URL:https://talks-calendar.ista.ac.at/events/5627
END:VEVENT
END:VCALENDAR
