BEGIN:VCALENDAR
VERSION:2.0
PRODID:icalendar-ruby
CALSCALE:GREGORIAN
METHOD:PUBLISH
BEGIN:VTIMEZONE
TZID:Europe/Vienna
BEGIN:DAYLIGHT
DTSTART:20250330T030000
TZOFFSETFROM:+0100
TZOFFSETTO:+0200
RRULE:FREQ=YEARLY;BYDAY=-1SU;BYMONTH=3
TZNAME:CEST
END:DAYLIGHT
BEGIN:STANDARD
DTSTART:20251026T020000
TZOFFSETFROM:+0200
TZOFFSETTO:+0100
RRULE:FREQ=YEARLY;BYDAY=-1SU;BYMONTH=10
TZNAME:CET
END:STANDARD
END:VTIMEZONE
BEGIN:VEVENT
DTSTAMP:20260424T221007Z
UID:1750942800@ist.ac.at
DTSTART:20250626T150000
DTEND:20250626T180000
DESCRIPTION:Abstract: We extend a warm invitation to graduates\, supervisor
 s\, and families to join us in person for this special occasion. Others a
 re cordially invited to join the ceremony via live stream or stop by the r
 eception to toast with the graduates in person. Further details concernin
 g the event will be announced soon.We are looking forward to celebrating t
 he accomplishments of our recent graduates and hope to see many of you the
 re!
LOCATION:Moonstone Seminar Center\, ISTA
ORGANIZER:Diana.Gruber@ista.ac.at
SUMMARY:Graduation Ceremony
URL:https://talks-calendar.ista.ac.at/events/5620
END:VEVENT
END:VCALENDAR
