BEGIN:VCALENDAR
VERSION:2.0
PRODID:icalendar-ruby
CALSCALE:GREGORIAN
METHOD:PUBLISH
BEGIN:VTIMEZONE
TZID:Europe/Vienna
BEGIN:DAYLIGHT
DTSTART:20250330T030000
TZOFFSETFROM:+0100
TZOFFSETTO:+0200
RRULE:FREQ=YEARLY;BYDAY=-1SU;BYMONTH=3
TZNAME:CEST
END:DAYLIGHT
BEGIN:STANDARD
DTSTART:20251026T020000
TZOFFSETFROM:+0200
TZOFFSETTO:+0100
RRULE:FREQ=YEARLY;BYDAY=-1SU;BYMONTH=10
TZNAME:CET
END:STANDARD
END:VTIMEZONE
BEGIN:VEVENT
DTSTAMP:20260424T170528Z
UID:1748251800@ist.ac.at
DTSTART:20250526T113000
DTEND:20250526T123000
DESCRIPTION:Speaker: Jeroen Dobbelaere\, Julian Renaud & Paul Falthansl\nho
 sted by Andela Saric\nAbstract: How can we make commuting to ISTA more env
 ironmentally friendly\, and how will electrification influence this transi
 tion?Together with ISTA students\, we explored the environmental footprint
  of electric cars and assessed the infrastructure needed to support them o
 n campus. We analyzed various electrification models and also examined the
  feasibility of converting the ISTA shuttle bus to an electric alternative
 .Our findings show that while ISTA is well-positioned to support electric 
 vehicles\, the environmental benefits of switching to electric cars are re
 latively modest due to their high production footprint. In contrast\, elec
 trifying the ISTA shuttle buses could have a significantly greater impact.
  This is supported by successful case studies\, such as the electric shutt
 le bus used at ETH. Furthermore\, increasing the use of public transportat
 ion could help reduce overall traffic and ensure timely arrivals\, even as
  the ISTA campus continues to grow.
LOCATION:Raiffeisen Lecture Hall\, ISTA
ORGANIZER:diana.gruber@ista.ac.at
SUMMARY:Jeroen Dobbelaere\, Julian Renaud & Paul Falthansl: Moving Forward:
  Exploring Sustainable Commute Solutions for ISTA
URL:https://talks-calendar.ista.ac.at/events/5605
END:VEVENT
END:VCALENDAR
