BEGIN:VCALENDAR
VERSION:2.0
PRODID:icalendar-ruby
CALSCALE:GREGORIAN
METHOD:PUBLISH
BEGIN:VTIMEZONE
TZID:Europe/Vienna
BEGIN:DAYLIGHT
DTSTART:20250330T030000
TZOFFSETFROM:+0100
TZOFFSETTO:+0200
RRULE:FREQ=YEARLY;BYDAY=-1SU;BYMONTH=3
TZNAME:CEST
END:DAYLIGHT
BEGIN:STANDARD
DTSTART:20251026T020000
TZOFFSETFROM:+0200
TZOFFSETTO:+0100
RRULE:FREQ=YEARLY;BYDAY=-1SU;BYMONTH=10
TZNAME:CET
END:STANDARD
END:VTIMEZONE
BEGIN:VEVENT
DTSTAMP:20260424T040545Z
UID:1744178400@ist.ac.at
DTSTART:20250409T080000
DTEND:20250410T180000
DESCRIPTION:Abstract: We are excited to invite you to the upcoming Mathema
 tical and Physical Sciences Retreat\, taking place on April 9-10\, 2025\,
  at Naturhotel Steinschaler Dörfl (https://steinschaler.at/doerfl/) in 
 Lower Austria.The retreat will feature lectures\, flash talks\, group act
 ivities\, and social events\, offering a great opportunity for exchange an
 d collaboration.To secure your spot\, please register here (https://forms
 .gle/R19Qg8vj2Vd4tPht5) Registration Deadline: February 28\, 2025 Limite
 d spots available – please sign up only if you can attend Transportati
 on will be providedMore details will be shared as the event approaches.If 
 you have any questions\, please contact Reka Tatar from the Events Office 
 at reka.tatar@ista.ac.at (mailto:reka.tatar@ista.ac.at).We look forward t
 o seeing you there!
LOCATION:Naturhotel Steinschaler Dörfl\, ISTA
ORGANIZER:reka.tatar@ista.ac.at
SUMMARY:MPS Retreat 2025
URL:https://talks-calendar.ista.ac.at/events/5597
END:VEVENT
END:VCALENDAR
