BEGIN:VCALENDAR
VERSION:2.0
PRODID:icalendar-ruby
CALSCALE:GREGORIAN
METHOD:PUBLISH
BEGIN:VTIMEZONE
TZID:Europe/Vienna
BEGIN:DAYLIGHT
DTSTART:20250330T030000
TZOFFSETFROM:+0100
TZOFFSETTO:+0200
RRULE:FREQ=YEARLY;BYDAY=-1SU;BYMONTH=3
TZNAME:CEST
END:DAYLIGHT
BEGIN:STANDARD
DTSTART:20251026T020000
TZOFFSETFROM:+0200
TZOFFSETTO:+0100
RRULE:FREQ=YEARLY;BYDAY=-1SU;BYMONTH=10
TZNAME:CET
END:STANDARD
END:VTIMEZONE
BEGIN:VEVENT
DTSTAMP:20260424T040555Z
UID:67b324cc281a1234483767@ist.ac.at
DTSTART:20250717T160000
DTEND:20250717T170000
DESCRIPTION:Speaker: Susana da Costa Nunes
LOCATION:Sunstone Bldg / Ground floor / Big Seminar Room B / 63 seats \, IS
 TA
ORGANIZER:rpacarad@ist.ac.at
SUMMARY:Susana da Costa Nunes: A winding tale of DNA across the tree of lif
 e
URL:https://talks-calendar.ista.ac.at/events/5586
END:VEVENT
END:VCALENDAR
