BEGIN:VCALENDAR
VERSION:2.0
PRODID:icalendar-ruby
CALSCALE:GREGORIAN
METHOD:PUBLISH
BEGIN:VTIMEZONE
TZID:Europe/Vienna
BEGIN:DAYLIGHT
DTSTART:20250330T030000
TZOFFSETFROM:+0100
TZOFFSETTO:+0200
RRULE:FREQ=YEARLY;BYDAY=-1SU;BYMONTH=3
TZNAME:CEST
END:DAYLIGHT
BEGIN:STANDARD
DTSTART:20251026T020000
TZOFFSETFROM:+0200
TZOFFSETTO:+0100
RRULE:FREQ=YEARLY;BYDAY=-1SU;BYMONTH=10
TZNAME:CET
END:STANDARD
END:VTIMEZONE
BEGIN:VEVENT
DTSTAMP:20260424T143005Z
UID:1751871600@ist.ac.at
DTSTART:20250707T090000
DTEND:20250711T170000
DESCRIPTION:Abstract: Building on the enduring legacy of the Kepler mission
 \, which continues to unveil the internal dynamics of stars\, and the ever
 -growing oscillating stellar populations from TESS\, the opportunities to 
 advance our understanding of stellar physics are expanding at an unprecede
 nted pace.In the last decade\, major asteroseismic discoveries regarding t
 he internal structure and dynamical processes of stars have led the commun
 ity to revisit angular momentum transport processes\, advance the impact o
 f stellar formation\, binarity and star-planet interactions on stellar evo
 lution\, and provide invaluable constraints for exoplanetary sciences and 
 galacto-archeology. The TASC9/KASC16 workshop will focus on synergies bet
 ween communties accross the HR diagram\, with a dedicated attention to bri
 dging methodologies and unifying discoveries towards a better understandin
 g of stellar processes.
LOCATION:Moonstone Seminar Center\, ISTA
ORGANIZER:tasc9-kasc16@ista.ac.at
SUMMARY:TASC9/KASC16 Workshop 
URL:https://talks-calendar.ista.ac.at/events/5564
END:VEVENT
END:VCALENDAR
