BEGIN:VCALENDAR
VERSION:2.0
PRODID:icalendar-ruby
CALSCALE:GREGORIAN
METHOD:PUBLISH
BEGIN:VTIMEZONE
TZID:Europe/Vienna
BEGIN:DAYLIGHT
DTSTART:20250330T030000
TZOFFSETFROM:+0100
TZOFFSETTO:+0200
RRULE:FREQ=YEARLY;BYDAY=-1SU;BYMONTH=3
TZNAME:CEST
END:DAYLIGHT
BEGIN:STANDARD
DTSTART:20251026T020000
TZOFFSETFROM:+0200
TZOFFSETTO:+0100
RRULE:FREQ=YEARLY;BYDAY=-1SU;BYMONTH=10
TZNAME:CET
END:STANDARD
END:VTIMEZONE
BEGIN:VEVENT
DTSTAMP:20260424T040600Z
UID:1743413400@ist.ac.at
DTSTART:20250331T113000
DTEND:20250331T123000
DESCRIPTION:Speaker: Michael Sixt & Thomas Henzinger\nhosted by Andela Sari
 c\nAbstract: Tom's talk title: Certificates in AI: Learn But VerifyMichl's
  talk title: How Cells Perceive their Environment
LOCATION:RLH\, ISTA
ORGANIZER:maria.arias.sutil@ista.ac.at
SUMMARY:Michael Sixt & Thomas Henzinger: SeniorISTA Talk
URL:https://talks-calendar.ista.ac.at/events/5537
END:VEVENT
END:VCALENDAR
