BEGIN:VCALENDAR
VERSION:2.0
PRODID:icalendar-ruby
CALSCALE:GREGORIAN
METHOD:PUBLISH
BEGIN:VTIMEZONE
TZID:Europe/Vienna
BEGIN:DAYLIGHT
DTSTART:20250330T030000
TZOFFSETFROM:+0100
TZOFFSETTO:+0200
RRULE:FREQ=YEARLY;BYDAY=-1SU;BYMONTH=3
TZNAME:CEST
END:DAYLIGHT
BEGIN:STANDARD
DTSTART:20251026T020000
TZOFFSETFROM:+0200
TZOFFSETTO:+0100
RRULE:FREQ=YEARLY;BYDAY=-1SU;BYMONTH=10
TZNAME:CET
END:STANDARD
END:VTIMEZONE
BEGIN:VEVENT
DTSTAMP:20260424T040557Z
UID:1747042200@ist.ac.at
DTSTART:20250512T113000
DTEND:20250512T123000
DESCRIPTION:Speaker: Matthew Kwan\nhosted by Uli Wagner\nAbstract: I'll tel
 l you a bit about two long-running stories in discrete mathematics: one ab
 out order and disorder in large networks\, and one about the tension betwe
 en regularity\, symmetry and disorder when "organising objects into groups
 ". Two of the highlights from my time at ISTA so far were new advances in 
 these directions.The talk will be accessible to a non-mathematical audienc
 e!
LOCATION:Raiffeisen Lecture Hall\, ISTA
ORGANIZER:diana.gruber@ista.ac.at
SUMMARY:Matthew Kwan: Two stories about randomness
URL:https://talks-calendar.ista.ac.at/events/5520
END:VEVENT
END:VCALENDAR
