BEGIN:VCALENDAR
VERSION:2.0
PRODID:icalendar-ruby
CALSCALE:GREGORIAN
METHOD:PUBLISH
BEGIN:VTIMEZONE
TZID:Europe/Vienna
BEGIN:DAYLIGHT
DTSTART:20250330T030000
TZOFFSETFROM:+0100
TZOFFSETTO:+0200
RRULE:FREQ=YEARLY;BYDAY=-1SU;BYMONTH=3
TZNAME:CEST
END:DAYLIGHT
BEGIN:STANDARD
DTSTART:20241027T020000
TZOFFSETFROM:+0200
TZOFFSETTO:+0100
RRULE:FREQ=YEARLY;BYDAY=-1SU;BYMONTH=10
TZNAME:CET
END:STANDARD
END:VTIMEZONE
BEGIN:VEVENT
DTSTAMP:20260424T040552Z
UID:1739284200@ist.ac.at
DTSTART:20250211T153000
DTEND:20250211T171500
DESCRIPTION:hosted by EDI office\nAbstract: In 2015 the United Nations Gene
 ral Assembly declared 11 February as the International Day of Women and Gi
 rls in Science. On the 10th anniversary of this milestone\, ISTA proudly c
 elebrates women’s leadership in science.Join us for this year’s editio
 n on the topic "Being a Woman Leader of Science in 2025: Reflections from 
 ISTA’s Women Professors\," a discussion highlighting the experiences of 
 women leading in science today. ISTA’s women professors will share their
  perspectives and experiences on what it takes to be a (women) leader in S
 TEM in 2025.This event offers an opportunity to share stories\, reflect on
  current challenges and connect with some of ISTA’s inspiring women lead
 ers of science\, including Alicia Michael\, Andela Saric\, Anna Kicheva\, 
 Beatriz Vicoso\, Eva Benková\, Kim Modic\, Lora Sweeney\, Maria Ibáñez
 \, Samara Ren\, Sandra Siegert\, and Ylva Götberg.
LOCATION:Moonstone Seminar Center\, ISTA\, ISTA
ORGANIZER:Marija.Soronda@ist.ac.at
SUMMARY:Being a Woman Leader of Science in 2025: Reflections from ISTA’s 
 Women Professors
URL:https://talks-calendar.ista.ac.at/events/5514
END:VEVENT
END:VCALENDAR
