BEGIN:VCALENDAR
VERSION:2.0
PRODID:icalendar-ruby
CALSCALE:GREGORIAN
METHOD:PUBLISH
BEGIN:VTIMEZONE
TZID:Europe/Vienna
BEGIN:DAYLIGHT
DTSTART:20250330T030000
TZOFFSETFROM:+0100
TZOFFSETTO:+0200
RRULE:FREQ=YEARLY;BYDAY=-1SU;BYMONTH=3
TZNAME:CEST
END:DAYLIGHT
BEGIN:STANDARD
DTSTART:20241027T020000
TZOFFSETFROM:+0200
TZOFFSETTO:+0100
RRULE:FREQ=YEARLY;BYDAY=-1SU;BYMONTH=10
TZNAME:CET
END:STANDARD
END:VTIMEZONE
BEGIN:VEVENT
DTSTAMP:20260424T114253Z
UID:1738317600@ist.ac.at
DTSTART:20250131T110000
DTEND:20250131T120000
DESCRIPTION:Speaker: Joshua Gold\nhosted by Maximilian Jösch\nAbstract: My
  talk will describe how we are building on foundational studies of neural 
 mechanisms of perceptual decision-making to understand how those mechanism
 s can support cognitive flexibility. First\, I will describe a general the
 oretical framework for optimal decision-making in dynamic environments\, w
 hich emphasizes the flexible use of different computational primitives (e.
 g.\, working memory\, history-dependent adjustments) in a manner that depe
 nds on the environmental statistics and task. Second\, I will describe new
  findings relating some of these ideas to how the primate brain forms deci
 sions\, in particular how different adaptive mechanisms can be engaged and
  disengaged depending on the task conditions. I will conclude by speculati
 ng on principles that govern the use of these flexible processes in the br
 ain\, including trade-offs between computational costs and performance ben
 efits.
LOCATION:Mondi 2a+2b\, ISTA
ORGANIZER:
SUMMARY:Joshua Gold: Mechanisms of adaptive decision-making in dynamic envi
 ronments
URL:https://talks-calendar.ista.ac.at/events/5512
END:VEVENT
END:VCALENDAR
