BEGIN:VCALENDAR
VERSION:2.0
PRODID:icalendar-ruby
CALSCALE:GREGORIAN
METHOD:PUBLISH
BEGIN:VTIMEZONE
TZID:Europe/Vienna
BEGIN:DAYLIGHT
DTSTART:20250330T030000
TZOFFSETFROM:+0100
TZOFFSETTO:+0200
RRULE:FREQ=YEARLY;BYDAY=-1SU;BYMONTH=3
TZNAME:CEST
END:DAYLIGHT
BEGIN:STANDARD
DTSTART:20241027T020000
TZOFFSETFROM:+0200
TZOFFSETTO:+0100
RRULE:FREQ=YEARLY;BYDAY=-1SU;BYMONTH=10
TZNAME:CET
END:STANDARD
END:VTIMEZONE
BEGIN:VEVENT
DTSTAMP:20260425T181343Z
UID:1737108000@ist.ac.at
DTSTART:20250117T110000
DTEND:20250117T120000
DESCRIPTION:Speaker: Stan Brouns\nhosted by Jack Bravo\nAbstract: Prokaryot
 es have evolved a multitude of immune systems to defend themselves from vi
 rus predation including known gems such as CRISPR-Cas and Restriction enzy
 mes. Recent years have seen a dramatic increase in known virus defense mec
 hanisms in prokaryotes. In my talk I will give an overview of antiviral de
 fense in bacteria\, and will reveal a number of new antiviral defense mech
 anisms related innate immune pathways in Eukaryotes. I will highlight CRIS
 PR-controlled proteases in antiviral defense\, and I will furthermore disc
 uss the relevance of virus defense for the development of virus-based anti
 microbial strategies (phage therapy). Finally\, I will present phage count
 ermeasure strategies able to subvert host immunity.
LOCATION:Sunstone / Ground Floor / Big Seminar Room B (I23.EG.102)\, ISTA
ORGANIZER:Jack.Bravo@ist.ac.at
SUMMARY:Stan Brouns: The hidden gems of antiviral immune systems in bacteri
 a
URL:https://talks-calendar.ista.ac.at/events/5508
END:VEVENT
END:VCALENDAR
