BEGIN:VCALENDAR
VERSION:2.0
PRODID:icalendar-ruby
CALSCALE:GREGORIAN
METHOD:PUBLISH
BEGIN:VTIMEZONE
TZID:Europe/Vienna
BEGIN:DAYLIGHT
DTSTART:20250330T030000
TZOFFSETFROM:+0100
TZOFFSETTO:+0200
RRULE:FREQ=YEARLY;BYDAY=-1SU;BYMONTH=3
TZNAME:CEST
END:DAYLIGHT
BEGIN:STANDARD
DTSTART:20241027T020000
TZOFFSETFROM:+0200
TZOFFSETTO:+0100
RRULE:FREQ=YEARLY;BYDAY=-1SU;BYMONTH=10
TZNAME:CET
END:STANDARD
END:VTIMEZONE
BEGIN:VEVENT
DTSTAMP:20260424T143150Z
UID:676448ea4f3ad496406029@ist.ac.at
DTSTART:20250117T100000
DTEND:20250117T114500
DESCRIPTION:Speaker: Jaehun Lee\nhosted by Laszlo Erdös\nAbstract: In phys
 ics\, the phase transition between localized and delocalized phases in dis
 ordered systems\, often called the Anderson transition\, has attracted sig
 nificant interest. Several intriguing models display this behavior\, inclu
 ding random Schrdinger operators\, random band matrices\, and sparse rando
 m matrices. Heavy-tailed random matrices similarly capture this phase tran
 sition\, making them a crucial class of models in understanding localizati
 on phenomena. In this talk\, we will discuss the phase transition of the r
 ight singular vector associated with the smallest singular value of a rect
 angular random matrix. This work is in collaboration with Zhigang Bao (Uni
 versity of Hong Kong) and Xiaocong Xu (University of Southern California).
LOCATION:Office Bldg West / Ground floor / Heinzel Seminar Room (I21.EG.101
 )\, ISTA
ORGANIZER:lerdos@ist.ac.at
SUMMARY:Jaehun Lee: Phase transition for the bottom singular vector of rect
 angular random matrices
URL:https://talks-calendar.ista.ac.at/events/5492
END:VEVENT
END:VCALENDAR
