BEGIN:VCALENDAR
VERSION:2.0
PRODID:icalendar-ruby
CALSCALE:GREGORIAN
METHOD:PUBLISH
BEGIN:VTIMEZONE
TZID:Europe/Vienna
BEGIN:DAYLIGHT
DTSTART:20250330T030000
TZOFFSETFROM:+0100
TZOFFSETTO:+0200
RRULE:FREQ=YEARLY;BYDAY=-1SU;BYMONTH=3
TZNAME:CEST
END:DAYLIGHT
BEGIN:STANDARD
DTSTART:20241027T020000
TZOFFSETFROM:+0200
TZOFFSETTO:+0100
RRULE:FREQ=YEARLY;BYDAY=-1SU;BYMONTH=10
TZNAME:CET
END:STANDARD
END:VTIMEZONE
BEGIN:VEVENT
DTSTAMP:20260424T143240Z
UID:648ae4751de8d422982440@ist.ac.at
DTSTART:20250109T130000
DTEND:20250109T150000
DESCRIPTION:Speaker: Sebastián Herrero\nhosted by Tim Browning / Lois Fais
 ant\nAbstract: This talk is about asymptotic formulas for the number of ra
 tional points of bounded (or large) height on Hirzebruch-Kleinschmidt vari
 eties over global fields. These varieties are realizations of split toric 
 varieties with Picard rank 2\, and their explicit models enable computatio
 ns that go beyond the general expectation of the Manin-Peyre conjecture. T
 his is joint work with Tobas Martnez (University of El Salvador) and Pedro
  Montero (UTFSM\, Chile).
LOCATION:Office Bldg West / Ground floor / Heinzel Seminar Room (I21.EG.101
 )\, ISTA
ORGANIZER:boosthui@ist.ac.at
SUMMARY:Sebastián Herrero: Counting rational points on Hirzebruch-Kleinsch
 midt varieties
URL:https://talks-calendar.ista.ac.at/events/5484
END:VEVENT
END:VCALENDAR
