BEGIN:VCALENDAR
VERSION:2.0
PRODID:icalendar-ruby
CALSCALE:GREGORIAN
METHOD:PUBLISH
BEGIN:VTIMEZONE
TZID:Europe/Vienna
BEGIN:DAYLIGHT
DTSTART:20250330T030000
TZOFFSETFROM:+0100
TZOFFSETTO:+0200
RRULE:FREQ=YEARLY;BYDAY=-1SU;BYMONTH=3
TZNAME:CEST
END:DAYLIGHT
BEGIN:STANDARD
DTSTART:20241027T020000
TZOFFSETFROM:+0200
TZOFFSETTO:+0100
RRULE:FREQ=YEARLY;BYDAY=-1SU;BYMONTH=10
TZNAME:CET
END:STANDARD
END:VTIMEZONE
BEGIN:VEVENT
DTSTAMP:20260424T143228Z
UID:1736434800@ist.ac.at
DTSTART:20250109T160000
DTEND:20250109T170000
DESCRIPTION:Speaker: Kyung Won Kim\nhosted by Joesch Group\nAbstract: Under
 standing the mechanisms of neurodegeneration induced by environmental haza
 rds and neurodegenerative diseases is crucial for advancing neural health.
  In this talk\, I will discuss the physiological impacts of microplastics 
 on neuronal function\, focusing on their potential to exacerbate neurodege
 nerative symptoms\, such as those seen in Parkinson’s disease [1].  Add
 itionally\, I will present a newly developed optogenetic C. elegans model 
 of TDP-43 proteinopathy\, such as amyotrophic lateral sclerosis (ALS)\, wh
 ich could serve as a valuable tool for identifying potential therapeutic t
 argets for ALS.
LOCATION:Mondi 2\, Central Building\, ISTA
ORGANIZER:
SUMMARY:Kyung Won Kim: Understanding Neurodegeneration: From Microplastics 
 to C. elegans ALS Models
URL:https://talks-calendar.ista.ac.at/events/5480
END:VEVENT
END:VCALENDAR
