BEGIN:VCALENDAR
VERSION:2.0
PRODID:icalendar-ruby
CALSCALE:GREGORIAN
METHOD:PUBLISH
BEGIN:VTIMEZONE
TZID:Europe/Vienna
BEGIN:DAYLIGHT
DTSTART:20250330T030000
TZOFFSETFROM:+0100
TZOFFSETTO:+0200
RRULE:FREQ=YEARLY;BYDAY=-1SU;BYMONTH=3
TZNAME:CEST
END:DAYLIGHT
BEGIN:STANDARD
DTSTART:20241027T020000
TZOFFSETFROM:+0200
TZOFFSETTO:+0100
RRULE:FREQ=YEARLY;BYDAY=-1SU;BYMONTH=10
TZNAME:CET
END:STANDARD
END:VTIMEZONE
BEGIN:VEVENT
DTSTAMP:20260424T141025Z
UID:1737536400@ist.ac.at
DTSTART:20250122T100000
DTEND:20250122T113000
DESCRIPTION:Abstract: Happy New Year!We are delighted to invite the entire 
 Campus community to ISTA’s New Year's Kick-off event on January 22 at th
 e Moonstone Seminar Center. (https://talks-calendar.ista.ac.at/events/5477
 )Join us for a first preview of ISTA's plans for 2025 and insights from tw
 o Faculty members on what the year ahead holds.Enjoy refreshments and live
  music as you explore the marketplace\, featuring booths from various Camp
 us divisions and teams – a wonderful opportunity to connect and exchange
  ideas with colleagues.We look forward to celebrating and kicking off the 
 new year with all of you! Please register here by January 21!CLICK HERE  
 (https://registration.ista.ac.at/event/registration?id=New_Years_Kick_off_
 20253852885556)
LOCATION:Moonstone Seminar Center\, ISTA
ORGANIZER:maria.arias.sutil@ista.ac.at
SUMMARY:New Year's Kick-off
URL:https://talks-calendar.ista.ac.at/events/5477
END:VEVENT
END:VCALENDAR
