BEGIN:VCALENDAR
VERSION:2.0
PRODID:icalendar-ruby
CALSCALE:GREGORIAN
METHOD:PUBLISH
BEGIN:VTIMEZONE
TZID:Europe/Vienna
BEGIN:DAYLIGHT
DTSTART:20250330T030000
TZOFFSETFROM:+0100
TZOFFSETTO:+0200
RRULE:FREQ=YEARLY;BYDAY=-1SU;BYMONTH=3
TZNAME:CEST
END:DAYLIGHT
BEGIN:STANDARD
DTSTART:20251026T020000
TZOFFSETFROM:+0200
TZOFFSETTO:+0100
RRULE:FREQ=YEARLY;BYDAY=-1SU;BYMONTH=10
TZNAME:CET
END:STANDARD
END:VTIMEZONE
BEGIN:VEVENT
DTSTAMP:20260424T102417Z
UID:65b10888895e4717580445@ist.ac.at
DTSTART:20250429T110000
DTEND:20250429T120000
DESCRIPTION:Speaker: Erez Berg\nhosted by Maksym Serbyn\nAbstract:  Recent
 ly\, untwisted graphene multilayers have emerged as a rich platform to
  study quantum many-body physics. I will describe recent experiments on a 
 stack of three layers of graphene\, where superconductivity was recen
 tly discovered at the boundary between states with different broken symme
 tries. Experiments hint to an unconventional mechanism for superconductiv
 ity\, where counterintuitively\, the binding of electrons into pairs origi
 nates from the repulsive Coulomb interaction between them. Even more inter
 estingly\, one of the superconducting phases in trilayer graphene seem
 s to be an unusual fully spin polarized triplet state. The topology of its
  order parameter space\, that intertwines the phase of the superconductin
 g condensate with the spin polarization\, can lead to unusual phenomena\,
  such as anomalous supercurrent dissipation and a fractional-period  ac J
 osephson effect.
LOCATION:Office Bldg West / Ground floor / Heinzel Seminar Room (I21.EG.101
 )\, ISTA
ORGANIZER:Stephanie.Dolot@ist.ac.at
SUMMARY:Erez Berg: Exotic Superconductivity in Graphene Multilayers
URL:https://talks-calendar.ista.ac.at/events/5450
END:VEVENT
END:VCALENDAR
