BEGIN:VCALENDAR
VERSION:2.0
PRODID:icalendar-ruby
CALSCALE:GREGORIAN
METHOD:PUBLISH
BEGIN:VTIMEZONE
TZID:Europe/Vienna
BEGIN:DAYLIGHT
DTSTART:20250330T030000
TZOFFSETFROM:+0100
TZOFFSETTO:+0200
RRULE:FREQ=YEARLY;BYDAY=-1SU;BYMONTH=3
TZNAME:CEST
END:DAYLIGHT
BEGIN:STANDARD
DTSTART:20241027T020000
TZOFFSETFROM:+0200
TZOFFSETTO:+0100
RRULE:FREQ=YEARLY;BYDAY=-1SU;BYMONTH=10
TZNAME:CET
END:STANDARD
END:VTIMEZONE
BEGIN:VEVENT
DTSTAMP:20260424T143140Z
UID:672b735b9612f209611260@ist.ac.at
DTSTART:20250207T160000
DTEND:20250207T170000
DESCRIPTION:Speaker: Diego Fernando Garcia Castillo\nAbstract: In this talk
 \, I will present how we assessed the predictability aspect of evolution i
 n a 30-year transplant experiment in the marine snail Littorina saxatilis.
  In 1992\, we collected ~700 individuals from a crab-predation dominated e
 nvironment and relocated them to an uninhabited\, crab-free islet exposed 
 to strong waves. Three decades later\, the introduced population has estab
 lished itself\, exhibiting significant morphological and genetic changes t
 hat deviate from the parental Crab ecotype and resemble the Wave ecotype. 
 The observed evolutionary trajectory aligns with predictions we formulated
  based on knowledge of spatial variation among snail populations.
LOCATION:Raiffeisen Lecture Hall\, Central Building\, ISTA
ORGANIZER:mkrstic@ist.ac.at
SUMMARY:Diego Fernando Garcia Castillo: Predicting evolution: The dramatic 
 transformation of a snail in less than three decades
URL:https://talks-calendar.ista.ac.at/events/5391
END:VEVENT
END:VCALENDAR
