BEGIN:VCALENDAR
VERSION:2.0
PRODID:icalendar-ruby
CALSCALE:GREGORIAN
METHOD:PUBLISH
BEGIN:VTIMEZONE
TZID:Europe/Vienna
BEGIN:DAYLIGHT
DTSTART:20250330T030000
TZOFFSETFROM:+0100
TZOFFSETTO:+0200
RRULE:FREQ=YEARLY;BYDAY=-1SU;BYMONTH=3
TZNAME:CEST
END:DAYLIGHT
BEGIN:STANDARD
DTSTART:20241027T020000
TZOFFSETFROM:+0200
TZOFFSETTO:+0100
RRULE:FREQ=YEARLY;BYDAY=-1SU;BYMONTH=10
TZNAME:CET
END:STANDARD
END:VTIMEZONE
BEGIN:VEVENT
DTSTAMP:20260424T154719Z
UID:672b735b9610a226117042@ist.ac.at
DTSTART:20250131T160000
DTEND:20250131T170000
DESCRIPTION:Speaker: Alexander Bronstein\nAbstract: With the rapid advent o
 f AI technologies\, we are living through a historical period comparable i
 n the magnitude of its societal and economical impact to the Industrial Re
 volution. From ChatGPT to self-driving cars\, artificial intelligence is a
 ffecting every imaginable human endeavor. This talk will ponder the scient
 ific pursuit in the age of AI and hypothesize how the availability of thes
 e novel technologies may affect the scientific method\, especially in life
  sciences.
LOCATION:Raiffeisen Lecture Hall\, Central Building\, ISTA
ORGANIZER:mkrstic@ist.ac.at
SUMMARY:Alexander Bronstein: Science at the age of AI
URL:https://talks-calendar.ista.ac.at/events/5390
END:VEVENT
END:VCALENDAR
