BEGIN:VCALENDAR
VERSION:2.0
PRODID:icalendar-ruby
CALSCALE:GREGORIAN
METHOD:PUBLISH
BEGIN:VTIMEZONE
TZID:Europe/Vienna
BEGIN:DAYLIGHT
DTSTART:20250330T030000
TZOFFSETFROM:+0100
TZOFFSETTO:+0200
RRULE:FREQ=YEARLY;BYDAY=-1SU;BYMONTH=3
TZNAME:CEST
END:DAYLIGHT
BEGIN:STANDARD
DTSTART:20241027T020000
TZOFFSETFROM:+0200
TZOFFSETTO:+0100
RRULE:FREQ=YEARLY;BYDAY=-1SU;BYMONTH=10
TZNAME:CET
END:STANDARD
END:VTIMEZONE
BEGIN:VEVENT
DTSTAMP:20260424T074157Z
UID:672a1928658d9718124276@ist.ac.at
DTSTART:20250124T160000
DTEND:20250124T170000
DESCRIPTION:Speaker: Julian LÃ©onard\nAbstract: Ultracold atoms offer a f
 ascinating view of the quantum world. With optical microscopes\, we can im
 age and manipulate individual ultracold atoms and observe their quantum be
 haviour\, for example quantum superpositions and entanglement. This unique
  control has established ultracold atoms as a leading platform for quantum
  simulation and computation. In my talk I will show how playing with just 
 one or two ultracold atoms helps us to gain intuition about the quantum wo
 rld. We can then use our atoms as building blocks to assemble new material
 s and explore new states of matter.
LOCATION:Raiffeisen Lecture Hall\, Central Building\, ISTA
ORGANIZER:mkrstic@ist.ac.at
SUMMARY:Julian LÃ©onard: Atomic Legos â Building quantum matter atom
  by atom
URL:https://talks-calendar.ista.ac.at/events/5389
END:VEVENT
END:VCALENDAR
