BEGIN:VCALENDAR
VERSION:2.0
PRODID:icalendar-ruby
CALSCALE:GREGORIAN
METHOD:PUBLISH
BEGIN:VTIMEZONE
TZID:Europe/Vienna
BEGIN:DAYLIGHT
DTSTART:20250330T030000
TZOFFSETFROM:+0100
TZOFFSETTO:+0200
RRULE:FREQ=YEARLY;BYDAY=-1SU;BYMONTH=3
TZNAME:CEST
END:DAYLIGHT
BEGIN:STANDARD
DTSTART:20241027T020000
TZOFFSETFROM:+0200
TZOFFSETTO:+0100
RRULE:FREQ=YEARLY;BYDAY=-1SU;BYMONTH=10
TZNAME:CET
END:STANDARD
END:VTIMEZONE
BEGIN:VEVENT
DTSTAMP:20260424T113904Z
UID:1742207400@ist.ac.at
DTSTART:20250317T113000
DTEND:20250317T123000
DESCRIPTION:Speaker: Teri W. Odom\nhosted by Latha Venkataraman\nAbstract: 
 Optical metasurfaces are engineered planar structures with rationally desi
 gned building blocks that can manipulate light in new ways. This talk will
  discuss current advances and prospects in controlling light at the nanosc
 ale using plasmonic nanoparticle lattices. These meta-materials support co
 llective hybrid resonances with both light scattering and localization pro
 perties. First\, we will describe the expanded scope of plasmonic lattices
  based on exquisite tuning of topological symmetries and surface engineeri
 ng of the nanoparticles. Next\, we will highlight how the structured nanos
 cale cavities combined with quantum emitters show unprecedented nano-lasin
 g properties. Finally\, we will discuss how this platform is opening new o
 pportunities from strong coupling to auto-regulatory materials to long-ran
 ge remote sensing at room temperature. Teri W. Odom is the Joan Husting M
 adden and William H. Madden\, Jr. Professor of Chemistry at Northwestern U
 niversity. She is an expert in designing structured nanoscale materials th
 at exhibit extraordinary size and shape-dependent optical and physical pro
 perties.Odom is a Member of the National Academy of Sciences and the Ameri
 can Academy of Arts and Sciences. She is also a Fellow of the American Phy
 sical Society\, Materials Research Society\, Royal Society of Chemistry\, 
 American Chemical Society\, American Institute of Medical and Biological E
 ngineering\, Optica\, and the American Association for the Advancement of 
 Science\, and is a Senior Member of SPIE. Odom is Editor-in-Chief of Nano
  Letters.
LOCATION:Raiffeisen Lecture Hall\, ISTA
ORGANIZER:maria.arias.sutil@ista.ac.at
SUMMARY:Teri W. Odom: Nanoscale Optics in Flatland
URL:https://talks-calendar.ista.ac.at/events/5357
END:VEVENT
END:VCALENDAR
