BEGIN:VCALENDAR
VERSION:2.0
PRODID:icalendar-ruby
CALSCALE:GREGORIAN
METHOD:PUBLISH
BEGIN:VTIMEZONE
TZID:Europe/Vienna
BEGIN:DAYLIGHT
DTSTART:20250330T030000
TZOFFSETFROM:+0100
TZOFFSETTO:+0200
RRULE:FREQ=YEARLY;BYDAY=-1SU;BYMONTH=3
TZNAME:CEST
END:DAYLIGHT
BEGIN:STANDARD
DTSTART:20241027T020000
TZOFFSETFROM:+0200
TZOFFSETTO:+0100
RRULE:FREQ=YEARLY;BYDAY=-1SU;BYMONTH=10
TZNAME:CET
END:STANDARD
END:VTIMEZONE
BEGIN:VEVENT
DTSTAMP:20260424T100616Z
UID:1736764200@ist.ac.at
DTSTART:20250113T113000
DTEND:20250113T123000
DESCRIPTION:Speaker: Alicia Michael and Alex Bronstein\nhosted by Andela Sa
 ric\nAbstract: Alicia's talk title: “Orchestrating gene expression: how 
 proteins decode DNA”. Alex's talk title: "From RealSense to real sc
 ience — A journey of a curious character”. 
LOCATION:Raiffeisen Lecture Hall\, ISTA
ORGANIZER:maria.arias.sutil@ista.ac.at
SUMMARY:Alicia Michael and Alex Bronstein: Inaugural Lecture.
URL:https://talks-calendar.ista.ac.at/events/5355
END:VEVENT
END:VCALENDAR
