BEGIN:VCALENDAR
VERSION:2.0
PRODID:icalendar-ruby
CALSCALE:GREGORIAN
METHOD:PUBLISH
BEGIN:VTIMEZONE
TZID:Europe/Vienna
BEGIN:DAYLIGHT
DTSTART:20250330T030000
TZOFFSETFROM:+0100
TZOFFSETTO:+0200
RRULE:FREQ=YEARLY;BYDAY=-1SU;BYMONTH=3
TZNAME:CEST
END:DAYLIGHT
BEGIN:STANDARD
DTSTART:20241027T020000
TZOFFSETFROM:+0200
TZOFFSETTO:+0100
RRULE:FREQ=YEARLY;BYDAY=-1SU;BYMONTH=10
TZNAME:CET
END:STANDARD
END:VTIMEZONE
BEGIN:VEVENT
DTSTAMP:20260424T041151Z
UID:1733997600@ist.ac.at
DTSTART:20241212T110000
DTEND:20241212T120000
DESCRIPTION:Speaker: Iair Arcavi\nhosted by Astronomers\nAbstract: Supernov
 ae\, tidal disruption events and merging neutron stars can provide a wealt
 h of physical insights from nuclear physics to cosmology\; they can teach 
 us about the creation of the elements\, the formation of compact objects\,
  accretion processes\, feedback\, galaxy evolution\, and more. I will pr
 esent how my research group is investigating the nature of tidal disruptio
 n events and their surprising emission properties\; how we are using super
 novae to constrain late-stage stellar evolution and explosion\, and astero
 seismology to constrain the inner structure of massive stars\; and how we 
 are hoping to find more gravitational-wave counterparts through multi-obse
 rvatory coordination.
LOCATION:Central Bldg / O1 / Mondi 1\, ISTA
ORGANIZER:
SUMMARY:Iair Arcavi: Stars Disrupted\, Destroyed and Coalesced
URL:https://talks-calendar.ista.ac.at/events/5354
END:VEVENT
END:VCALENDAR
