BEGIN:VCALENDAR
VERSION:2.0
PRODID:icalendar-ruby
CALSCALE:GREGORIAN
METHOD:PUBLISH
BEGIN:VTIMEZONE
TZID:Europe/Vienna
BEGIN:DAYLIGHT
DTSTART:20250330T030000
TZOFFSETFROM:+0100
TZOFFSETTO:+0200
RRULE:FREQ=YEARLY;BYDAY=-1SU;BYMONTH=3
TZNAME:CEST
END:DAYLIGHT
BEGIN:STANDARD
DTSTART:20241027T020000
TZOFFSETFROM:+0200
TZOFFSETTO:+0100
RRULE:FREQ=YEARLY;BYDAY=-1SU;BYMONTH=10
TZNAME:CET
END:STANDARD
END:VTIMEZONE
BEGIN:VEVENT
DTSTAMP:20260424T143518Z
UID:1732104000@ist.ac.at
DTSTART:20241120T130000
DTEND:20241120T170000
DESCRIPTION:Abstract: Each year\, the Institute of Science and Technology A
 ustria (ISTA) opens its doors to give prospective PhD and internship candi
 dates an insight into what it is like to study and do research at the inst
 itute.What to expectThe Virtual Open Day is a great opportunity to explore
  our programs and campus virtually\, wherever you are. The program include
 s a range of live sessions from the Graduate School Office\, academics\,
  and students. You can find out about the PhD program\, the ISTA research 
 experience\, the support services\, the ISTA campus\, and much more by att
 ending one of the talks.All the sessions will be interactive\, with opport
 unities to ask your questions to Graduate School Office (https://phd.page
 s.ist.ac.at/contact-us/) staff\, academics and students.The tentative sch
 edule is as follows:Introduction to ISTA and the Graduate School\, 1:00 p
 m – 2:00 pm\, Central European Time (CET) –  ViennaHosted by Maria T
 rofimova\, Head of the Graduate School Office (https://phd.pages.ist.ac.at
 /about-us/)\, with welcome by Eva Benkova (https://ist.ac.at/en/research/
 benkova-group/)\, Dean of the Graduate School and Gasper Tkacik (https://
 ist.ac.at/en/research/tkacik-group/)\, Deputy to the Dean.Presentation of 
 ISTA Study Tracks (one live session per study track)Computer Science\, 2:1
 5 pm – 3:00 pm\, CET\, Vienna timePhysics\, 2:15 pm – 3:00 pm\, CET\, 
 Vienna timeMathematics\, 3:15 pm – 4:00 pm\, CET\, Vienna timeNeuroscien
 ce\, 3:15 pm – 4:00 pm\, CET\, Vienna timeChemistry & Materials\, 3:15 p
 m – 4:00 pm\, CET\, Vienna timeData Science & Scientific Computing\, 4:1
 5 pm – 5:00 pm\, CET\, Vienna timeBiology\, 4:15 pm – 5:00 pm\, CET\, 
 Vienna timeAs we gear up for the 2024 Virtual Student Open Day\, why not 
 take a moment to revisit the recording of our previous Virtual Open Day ev
 ent in 2023? The live footage is now available on ISTA’s YouTube (https
 ://www.youtube.com/user/ISTAustria) channel.
LOCATION:Virtual\, ISTA
ORGANIZER:
SUMMARY:Virtual Student Open Day
URL:https://talks-calendar.ista.ac.at/events/5325
END:VEVENT
END:VCALENDAR
