BEGIN:VCALENDAR
VERSION:2.0
PRODID:icalendar-ruby
CALSCALE:GREGORIAN
METHOD:PUBLISH
BEGIN:VTIMEZONE
TZID:Europe/Vienna
BEGIN:DAYLIGHT
DTSTART:20250330T030000
TZOFFSETFROM:+0100
TZOFFSETTO:+0200
RRULE:FREQ=YEARLY;BYDAY=-1SU;BYMONTH=3
TZNAME:CEST
END:DAYLIGHT
BEGIN:STANDARD
DTSTART:20241027T020000
TZOFFSETFROM:+0200
TZOFFSETTO:+0100
RRULE:FREQ=YEARLY;BYDAY=-1SU;BYMONTH=10
TZNAME:CET
END:STANDARD
END:VTIMEZONE
BEGIN:VEVENT
DTSTAMP:20260424T051608Z
UID:1732012200@ist.ac.at
DTSTART:20241119T113000
DTEND:20241119T123000
DESCRIPTION:Speaker: Onur Güntürkün\nhosted by Sandra Siegert\nAbstract:
  Abstract:Great apes like chimpanzees are smart and have a large neocortex
 . In comparison\, birds like corvids and parrots have much smaller brains 
 and no neocortex. This should cast a dim prospect on their cognitive abili
 ties. But studies of the last two decades revealed that there is not a sin
 gle cognitive ability of chimpanzees (brain weight 400g) that was not also
  demonstrated in corvids and parrots (brain weights 5-25g). How is that po
 ssible? This question keeps me awake because it challenges core assumption
 s of the neural fundaments of complex cognition. I guess\, I must travel b
 ack into the beginnings of terrestrial vertebrate evolution to find answer
 s. This talk is about this journey.
LOCATION:Raiffeisen Lecture Hall\, ISTA
ORGANIZER:maria.arias.sutil@ista.ac.at
SUMMARY:Onur Güntürkün: Convergent Minds and the Evolution of Complex Co
 gnition
URL:https://talks-calendar.ista.ac.at/events/5259
END:VEVENT
END:VCALENDAR
