BEGIN:VCALENDAR
VERSION:2.0
PRODID:icalendar-ruby
CALSCALE:GREGORIAN
METHOD:PUBLISH
BEGIN:VTIMEZONE
TZID:Europe/Vienna
BEGIN:DAYLIGHT
DTSTART:20250330T030000
TZOFFSETFROM:+0100
TZOFFSETTO:+0200
RRULE:FREQ=YEARLY;BYDAY=-1SU;BYMONTH=3
TZNAME:CEST
END:DAYLIGHT
BEGIN:STANDARD
DTSTART:20241027T020000
TZOFFSETFROM:+0200
TZOFFSETTO:+0100
RRULE:FREQ=YEARLY;BYDAY=-1SU;BYMONTH=10
TZNAME:CET
END:STANDARD
END:VTIMEZONE
BEGIN:VEVENT
DTSTAMP:20260424T040534Z
UID:1733740200@ist.ac.at
DTSTART:20241209T113000
DTEND:20241209T123000
DESCRIPTION:Speaker: Jack Bravo and Ilaria Caiazzo\nhosted by Jeremie Palac
 ci\nAbstract: Jack Bravo Title's Talk: CRISPR 2.0: Exploiting bacterial i
 nnovation for next-generation biotechnologyIlaria Caiazzo's Title's Talk:
  Big telescopes and tiny stars: a tale of opportunities
LOCATION:Raiffeisen Lecture Hall\, ISTA
ORGANIZER:maria.arias.sutil@ista.ac.at
SUMMARY:Jack Bravo and Ilaria Caiazzo: Inaugural lecture: Jack Bravo and Il
 aria Caiazzo
URL:https://talks-calendar.ista.ac.at/events/5255
END:VEVENT
END:VCALENDAR
