BEGIN:VCALENDAR
VERSION:2.0
PRODID:icalendar-ruby
CALSCALE:GREGORIAN
METHOD:PUBLISH
BEGIN:VTIMEZONE
TZID:Europe/Vienna
BEGIN:DAYLIGHT
DTSTART:20250330T030000
TZOFFSETFROM:+0100
TZOFFSETTO:+0200
RRULE:FREQ=YEARLY;BYDAY=-1SU;BYMONTH=3
TZNAME:CEST
END:DAYLIGHT
BEGIN:STANDARD
DTSTART:20241027T020000
TZOFFSETFROM:+0200
TZOFFSETTO:+0100
RRULE:FREQ=YEARLY;BYDAY=-1SU;BYMONTH=10
TZNAME:CET
END:STANDARD
END:VTIMEZONE
BEGIN:VEVENT
DTSTAMP:20260424T143344Z
UID:1732194000@ist.ac.at
DTSTART:20241121T140000
DTEND:20241121T200000
DESCRIPTION:hosted by Postdoctoral Office
LOCATION:Moonstone Seminar Room G\, ISTA
ORGANIZER:
SUMMARY:IST-BRIDGE Postdoctoral Fellowship Celebration event
URL:https://talks-calendar.ista.ac.at/events/5216
END:VEVENT
END:VCALENDAR
