BEGIN:VCALENDAR
VERSION:2.0
PRODID:icalendar-ruby
CALSCALE:GREGORIAN
METHOD:PUBLISH
BEGIN:VTIMEZONE
TZID:Europe/Vienna
BEGIN:DAYLIGHT
DTSTART:20250330T030000
TZOFFSETFROM:+0100
TZOFFSETTO:+0200
RRULE:FREQ=YEARLY;BYDAY=-1SU;BYMONTH=3
TZNAME:CEST
END:DAYLIGHT
BEGIN:STANDARD
DTSTART:20241027T020000
TZOFFSETFROM:+0200
TZOFFSETTO:+0100
RRULE:FREQ=YEARLY;BYDAY=-1SU;BYMONTH=10
TZNAME:CET
END:STANDARD
END:VTIMEZONE
BEGIN:VEVENT
DTSTAMP:20260424T143449Z
UID:66d80b0a39147659802593@ist.ac.at
DTSTART:20241127T153000
DTEND:20241127T163000
DESCRIPTION:Speaker: Gigliola Staffilani\nhosted by Robert Seiringer\nAbstr
 act: In the last two decades  great progress has been made in the study o
 f dispersive and wave equations. Over the years the toolbox used in order
  to attack highly nontrivial problems related to these equations has deve
 loped to include a collection of techniques: Fourier and harmonic analysi
 s\, analytic number theory\, math physics\, dynamical systems\, probabili
 ty and symplectic geometry. In this talk I will introduce a variety of res
 ults using as model problem mainly the periodic 2D cubic nonlinear Schr
 ödinger equation. I will start by giving a physical derivation of the eq
 uation from a quantum many-particles system\, I will introduce periodic 
 Strichartz estimates along with some remarkable connections to analytic nu
 mber theory\, I will move on the concept of energy transfer and its conne
 ction to dynamical systems\, and I will end with some results following fr
 om viewing the periodic nonlinear Schrödinger equation as an infinite d
 imensional Hamiltonian system.
LOCATION:Raiffeisen Lecture Hall\, Central Building\, ISTA
ORGANIZER:boosthui@ist.ac.at
SUMMARY:Gigliola Staffilani: The  Schrödinger equations as inspiration of 
 beautiful mathematics
URL:https://talks-calendar.ista.ac.at/events/5215
END:VEVENT
END:VCALENDAR
