BEGIN:VCALENDAR
VERSION:2.0
PRODID:icalendar-ruby
CALSCALE:GREGORIAN
METHOD:PUBLISH
BEGIN:VTIMEZONE
TZID:Europe/Vienna
BEGIN:DAYLIGHT
DTSTART:20250330T030000
TZOFFSETFROM:+0100
TZOFFSETTO:+0200
RRULE:FREQ=YEARLY;BYDAY=-1SU;BYMONTH=3
TZNAME:CEST
END:DAYLIGHT
BEGIN:STANDARD
DTSTART:20241027T020000
TZOFFSETFROM:+0200
TZOFFSETTO:+0100
RRULE:FREQ=YEARLY;BYDAY=-1SU;BYMONTH=10
TZNAME:CET
END:STANDARD
END:VTIMEZONE
BEGIN:VEVENT
DTSTAMP:20260424T040528Z
UID:66d18a6407881570651666@ist.ac.at
DTSTART:20250129T110000
DTEND:20250129T120000
DESCRIPTION:Speaker: Simon Martin\nhosted by Barton group\nAbstract: Recent
  population genomic studies provide countless examples of local adaptation
  associated with apparent chromosomal rearrangements (usually interpreted 
 as inversions). This may be unsurprising given the neat theoretical predic
 tion that inversions can be favoured if they maintain combinations of loca
 lly adapted alleles. But in order to truly understand the evolutionary mec
 hanisms that lead to the maintenance of rearrangement differences between 
 populations\, we need to dissect their history and genetics. In this semin
 ar I will describe our recent case studies in the butterfly Danaus chrysip
 pus\, in which several rearrangements differentiate distinct colour morphs
 . Ill show how scratching beneath the surface of this apparently simple sy
 stem reveals surprising complexity\, fueled by compounding rearrangements 
 and ongoing recombination. Our findings suggest that rearrangement evoluti
 on is dynamic\, and involves a broader range of both mechanisms and select
 ion pressures than initially hypothesised.
LOCATION:Central Bldg / O1 / Mondi 2a (I01.O1.008)\, ISTA
ORGANIZER:fruzicka@ist.ac.at
SUMMARY:Simon Martin: Chromosomal rearrangements and local adaptation: more
  than meets the eye (Simon Martin)
URL:https://talks-calendar.ista.ac.at/events/5206
END:VEVENT
END:VCALENDAR
