BEGIN:VCALENDAR
VERSION:2.0
PRODID:icalendar-ruby
CALSCALE:GREGORIAN
METHOD:PUBLISH
BEGIN:VTIMEZONE
TZID:Europe/Vienna
BEGIN:DAYLIGHT
DTSTART:20250330T030000
TZOFFSETFROM:+0100
TZOFFSETTO:+0200
RRULE:FREQ=YEARLY;BYDAY=-1SU;BYMONTH=3
TZNAME:CEST
END:DAYLIGHT
BEGIN:STANDARD
DTSTART:20241027T020000
TZOFFSETFROM:+0200
TZOFFSETTO:+0100
RRULE:FREQ=YEARLY;BYDAY=-1SU;BYMONTH=10
TZNAME:CET
END:STANDARD
END:VTIMEZONE
BEGIN:VEVENT
DTSTAMP:20260424T040736Z
UID:648ae475189a0772940927@ist.ac.at
DTSTART:20241121T130000
DTEND:20241121T150000
DESCRIPTION:Speaker: Szilard Szabo\nhosted by Tamas Hausel\nAbstract: In th
 e first part\, I will explain the meaning of Hitchin WKB analysis and pres
 ent some related results. In the second part\, I will explain joint work w
 ith T. Mochizuki about the asymptotic behavior of large-scale solutions of
  Hitchins equations that underlie the results explained in the first part.
LOCATION:Office Bldg West / Ground floor / Heinzel Seminar Room (I21.EG.101
 )\, ISTA
ORGANIZER:boosthui@ist.ac.at
SUMMARY:Szilard Szabo: Hitchin WKB analysis in higher rank
URL:https://talks-calendar.ista.ac.at/events/5167
END:VEVENT
END:VCALENDAR
