BEGIN:VCALENDAR
VERSION:2.0
PRODID:icalendar-ruby
CALSCALE:GREGORIAN
METHOD:PUBLISH
BEGIN:VTIMEZONE
TZID:Europe/Vienna
BEGIN:DAYLIGHT
DTSTART:20250330T030000
TZOFFSETFROM:+0100
TZOFFSETTO:+0200
RRULE:FREQ=YEARLY;BYDAY=-1SU;BYMONTH=3
TZNAME:CEST
END:DAYLIGHT
BEGIN:STANDARD
DTSTART:20241027T020000
TZOFFSETFROM:+0200
TZOFFSETTO:+0100
RRULE:FREQ=YEARLY;BYDAY=-1SU;BYMONTH=10
TZNAME:CET
END:STANDARD
END:VTIMEZONE
BEGIN:VEVENT
DTSTAMP:20260424T143310Z
UID:648ae47517d82286496557@ist.ac.at
DTSTART:20241114T130000
DTEND:20241114T150000
DESCRIPTION:Speaker: Rachel Newton\nhosted by Tim Browning\nAbstract: Let E
  and E′ be elliptic curves over Q with complex multiplication by the rin
 g of integers of an imaginary quadratic field K and let Y = Kum(E×E′) b
 e the minimal desingularisation of the quotient of E×E′ by the action o
 f −1. We study the Brauer groups of such surfaces Y and use them to furn
 ish new examples of transcendental Brauer–Manin obstructions to weak app
 roximation. This is joint work with Mohamed Alaa Tawfik.
LOCATION:Office Bldg West / Ground floor / Heinzel Seminar Room (I21.EG.101
 )\, ISTA
ORGANIZER:boosthui@ist.ac.at
SUMMARY:Rachel Newton: Transcendental Brauer—Manin obstructions on singul
 ar K3 surfaces
URL:https://talks-calendar.ista.ac.at/events/5166
END:VEVENT
END:VCALENDAR
