BEGIN:VCALENDAR
VERSION:2.0
PRODID:icalendar-ruby
CALSCALE:GREGORIAN
METHOD:PUBLISH
BEGIN:VTIMEZONE
TZID:Europe/Vienna
BEGIN:DAYLIGHT
DTSTART:20250330T030000
TZOFFSETFROM:+0100
TZOFFSETTO:+0200
RRULE:FREQ=YEARLY;BYDAY=-1SU;BYMONTH=3
TZNAME:CEST
END:DAYLIGHT
BEGIN:STANDARD
DTSTART:20241027T020000
TZOFFSETFROM:+0200
TZOFFSETTO:+0100
RRULE:FREQ=YEARLY;BYDAY=-1SU;BYMONTH=10
TZNAME:CET
END:STANDARD
END:VTIMEZONE
BEGIN:VEVENT
DTSTAMP:20260424T153157Z
UID:66a376b9cc4b3894374758@ist.ac.at
DTSTART:20250218T140000
DTEND:20250218T153000
DESCRIPTION:Speaker: Adi Dickstein\nhosted by Kaloshin Group\nAbstract: Top
 ological quasi-states are special functionals on the algebra of continuous
  functions which are linear on single-generated subalgebras. They trace th
 eir origins to the von Neumann axioms of quantum mechanics. On symplectic 
 surfaces\, every topological quasi-state is symplectic\, i.e.\, linear on 
 Poisson-commutative subalgebras. We discuss the failure of this phenomenon
  in higher dimensions based on the study of symplectic embeddings of polyd
 iscs. Furthermore\, we introduce a Wasserstein-type metric on quasi-states
  and use it for quantitative constraints on symplectic quasi-states. The t
 alk is based on a joint work with Frol Zapolsky.
LOCATION:Office Bldg West / Ground floor / Heinzel Seminar Room (I21.EG.101
 )\, ISTA
ORGANIZER:cfrancois@ist.ac.at
SUMMARY:Adi Dickstein: Symplectic vs. topological quasi-states
URL:https://talks-calendar.ista.ac.at/events/5138
END:VEVENT
END:VCALENDAR
