BEGIN:VCALENDAR
VERSION:2.0
PRODID:icalendar-ruby
CALSCALE:GREGORIAN
METHOD:PUBLISH
BEGIN:VTIMEZONE
TZID:Europe/Vienna
BEGIN:DAYLIGHT
DTSTART:20250330T030000
TZOFFSETFROM:+0100
TZOFFSETTO:+0200
RRULE:FREQ=YEARLY;BYDAY=-1SU;BYMONTH=3
TZNAME:CEST
END:DAYLIGHT
BEGIN:STANDARD
DTSTART:20241027T020000
TZOFFSETFROM:+0200
TZOFFSETTO:+0100
RRULE:FREQ=YEARLY;BYDAY=-1SU;BYMONTH=10
TZNAME:CET
END:STANDARD
END:VTIMEZONE
BEGIN:VEVENT
DTSTAMP:20260424T153015Z
UID:664da6bce6199756653041@ist.ac.at
DTSTART:20250124T150000
DTEND:20250124T160000
DESCRIPTION:Speaker: Ralf Richter\nhosted by Andela Saric and Michael Sixt
LOCATION:Mondi Seminar Room 2\, Central Building\, ISTA
ORGANIZER:aehrmann@ist.ac.at
SUMMARY:Ralf Richter: Molecular recognition across our cells' sugary coat
URL:https://talks-calendar.ista.ac.at/events/5005
END:VEVENT
END:VCALENDAR
