BEGIN:VCALENDAR
VERSION:2.0
PRODID:icalendar-ruby
CALSCALE:GREGORIAN
METHOD:PUBLISH
BEGIN:VTIMEZONE
TZID:Europe/Vienna
BEGIN:DAYLIGHT
DTSTART:20240331T030000
TZOFFSETFROM:+0100
TZOFFSETTO:+0200
RRULE:FREQ=YEARLY;BYDAY=-1SU;BYMONTH=3
TZNAME:CEST
END:DAYLIGHT
BEGIN:STANDARD
DTSTART:20241027T020000
TZOFFSETFROM:+0200
TZOFFSETTO:+0100
RRULE:FREQ=YEARLY;BYDAY=-1SU;BYMONTH=10
TZNAME:CET
END:STANDARD
END:VTIMEZONE
BEGIN:VEVENT
DTSTAMP:20260424T143150Z
UID:648ae47502cac034013780@ist.ac.at
DTSTART:20240502T130000
DTEND:20240502T150000
DESCRIPTION:Speaker: Amina Abdurrahman\nhosted by Tim Browning\nAbstract: W
 e give a purely topological formula for the square class of the central va
 lue of the L-function of a symplectic representation on a curve. We also f
 ormulate a topological analogue of the statement\, in which the central va
 lue of the L-function is replaced by Reidemeister torsion of 3-manifolds. 
 This is related to the theory of epsilon factors in number theory and Meye
 rs signature formula in topology among other topics. We will present some 
 of these ideas and sketch aspects of the proof. This is joint work with Ak
 shay Venkatesh.
LOCATION:Office Bldg West / Ground floor / Heinzel Seminar Room (I21.EG.101
 )\, ISTA
ORGANIZER:boosthui@ist.ac.at
SUMMARY:Amina Abdurrahman: Square roots for symplectic L-functions and Reid
 emeister torsion
URL:https://talks-calendar.ista.ac.at/events/4943
END:VEVENT
END:VCALENDAR
