BEGIN:VCALENDAR
VERSION:2.0
PRODID:icalendar-ruby
CALSCALE:GREGORIAN
METHOD:PUBLISH
BEGIN:VTIMEZONE
TZID:Europe/Vienna
BEGIN:DAYLIGHT
DTSTART:20240331T030000
TZOFFSETFROM:+0100
TZOFFSETTO:+0200
RRULE:FREQ=YEARLY;BYDAY=-1SU;BYMONTH=3
TZNAME:CEST
END:DAYLIGHT
BEGIN:STANDARD
DTSTART:20241027T020000
TZOFFSETFROM:+0200
TZOFFSETTO:+0100
RRULE:FREQ=YEARLY;BYDAY=-1SU;BYMONTH=10
TZNAME:CET
END:STANDARD
END:VTIMEZONE
BEGIN:VEVENT
DTSTAMP:20260424T143327Z
UID:1714478400@ist.ac.at
DTSTART:20240430T140000
DTEND:20240430T160000
DESCRIPTION:Speaker: Isabella Klebinger\nhosted by Jeroen Dobbelaere\nAbstr
 act: As part of the biodiversity project on campus we will focus on the pl
 ants on campus and try in a very hands on way to discover\, monitor and ph
 otograph plants on campus. According the Stockholm resilience center biodi
 versity is one of the most critical factors affected by climate change. La
 st year we started our Biodiversity Project at ISTA and now that the weath
 er is getting nicer\, we would like to continue this journey.Key objective
 sFind native and exotic plants on campus.Learn how to document and name pl
 ants.Design monitoring project using iNaturalist.Learn about plant insect 
 interactions.Isabella Klebinger from Öko Campus Wien (https://oekocampus
 wien.com/) will guides us around campus and tell us about the plants and 
 animals. Isabella is an expert in biodiversity in urban areas and also act
 ive at this year Klimabienale Wien as artist (link) (https://www.biennale
 .wien/ausstellungen/into-the-woods) and activist (link (https://www.bienn
 ale.wien/projekte/die-wildnis-in-deiner-stadt-und-wie-du-sie-schuetzen-kan
 nst#:~:text=Die%20K%C3%BCnstlerin%2C%20Forscherin%20und%20Aktivistin\,Sing
 v%C3%B6gel%2C%20Flederm%C3%A4use%20verbessert%20werden%20k%C3%B6nnen.)).Is
 a Klee\, Artist\, citizen scientist\, spatial planner\,  activist and. In
 itiator of Öko Campus Wien @endangeredspeciesadvocacy (https://www.insta
 gram.com/endangeredspeciesadvocacy/)
LOCATION:Terrace near the pond\, ISTA
ORGANIZER:jeroen.dobbelaere@ist.ac.at
SUMMARY:Isabella Klebinger: Fascination Plant Day Walk
URL:https://talks-calendar.ista.ac.at/events/4942
END:VEVENT
END:VCALENDAR
