BEGIN:VCALENDAR
VERSION:2.0
PRODID:icalendar-ruby
CALSCALE:GREGORIAN
METHOD:PUBLISH
BEGIN:VTIMEZONE
TZID:Europe/Vienna
BEGIN:DAYLIGHT
DTSTART:20240331T030000
TZOFFSETFROM:+0100
TZOFFSETTO:+0200
RRULE:FREQ=YEARLY;BYDAY=-1SU;BYMONTH=3
TZNAME:CEST
END:DAYLIGHT
BEGIN:STANDARD
DTSTART:20241027T020000
TZOFFSETFROM:+0200
TZOFFSETTO:+0100
RRULE:FREQ=YEARLY;BYDAY=-1SU;BYMONTH=10
TZNAME:CET
END:STANDARD
END:VTIMEZONE
BEGIN:VEVENT
DTSTAMP:20260424T143103Z
UID:648ae475014ca705616708@ist.ac.at
DTSTART:20240418T130000
DTEND:20240418T150000
DESCRIPTION:Speaker: Tim Santens\nhosted by Tim Browning\nAbstract: Malle h
 as conjectured the order of growth of the number of field extensions with 
 Galois group G of bounded discriminant\, but he did not provide a conjectu
 re for the leading constant. In this talk I will discuss joint work with L
 oughran where we give a prediction for the leading constant in Malles conj
 ecture in analogy with Peyres constant for Manins conjecture\, based on th
 e analogy that Malles conjecture is Manins conjecture for the stack BG.
LOCATION:Office Bldg West / Ground floor / Heinzel Seminar Room (I21.EG.101
 )\, ISTA
ORGANIZER:boosthui@ist.ac.at
SUMMARY:Tim Santens: The leading constant in Malle’s conjecture
URL:https://talks-calendar.ista.ac.at/events/4901
END:VEVENT
END:VCALENDAR
