BEGIN:VCALENDAR
VERSION:2.0
PRODID:icalendar-ruby
CALSCALE:GREGORIAN
METHOD:PUBLISH
BEGIN:VTIMEZONE
TZID:Europe/Vienna
BEGIN:DAYLIGHT
DTSTART:20240331T030000
TZOFFSETFROM:+0100
TZOFFSETTO:+0200
RRULE:FREQ=YEARLY;BYDAY=-1SU;BYMONTH=3
TZNAME:CEST
END:DAYLIGHT
BEGIN:STANDARD
DTSTART:20241027T020000
TZOFFSETFROM:+0200
TZOFFSETTO:+0100
RRULE:FREQ=YEARLY;BYDAY=-1SU;BYMONTH=10
TZNAME:CET
END:STANDARD
END:VTIMEZONE
BEGIN:VEVENT
DTSTAMP:20260424T123702Z
UID:65faa191c8056392305585@ist.ac.at
DTSTART:20240417T093000
DTEND:20240417T103000
DESCRIPTION:Speaker: Vihar Georgiev\nhosted by Georgios Katsaros\nAbstract:
  Recently\, interest in electronic\, magnetic and optical materials based 
 on inorganic and organic nano-materials has increased significantly. Such 
 new materials and novel device architectures have the potential to bring t
 he technology beyond the Moore era. The most time-efficient and cost-effec
 tive approach to finding the best materials and devices for specific appli
 cations is to perform modelling and simulations. In this talk\, I will pre
 sent exciting research carried out by my research group\, DeepNano\, in th
 e fields of biosensors\, molecular electronics\, superconducting qubits an
 d the variability of nano-scale transistors to show the importance of mate
 rial modelling and device simulations not only in academia but also in the
  industry. Our main aim is to establish a link between the material proper
 ties\, device architecture and performance using hierarchical\, multi-scal
 ed simulation modelling. For example\, to evaluate the performance of supe
 rconducting qubits\, we have developed a simulation flow that links the at
 omistic simulations with a three-dimensional (3D) numerical device simulat
 or. Also\, to simulate the electrical and optical response of biosensors\,
  we have combined analytical and machine learning (ML) methods in a unifie
 d simulation framework. In this way\, the computation flows and numerical 
 methods developed in my research group can evaluate the material propertie
 s and device performance of various heterogeneous devices and systems.
LOCATION:Mondi Seminar Room 2\, Central Building\, ISTA
ORGANIZER:swiddman@ist.ac.at
SUMMARY:Vihar Georgiev: Multi-Scaled Simulations and Modelling of Novel Mat
 erials and Electronic Devices
URL:https://talks-calendar.ista.ac.at/events/4875
END:VEVENT
END:VCALENDAR
