BEGIN:VCALENDAR
VERSION:2.0
PRODID:icalendar-ruby
CALSCALE:GREGORIAN
METHOD:PUBLISH
BEGIN:VTIMEZONE
TZID:Europe/Vienna
BEGIN:DAYLIGHT
DTSTART:20240331T030000
TZOFFSETFROM:+0100
TZOFFSETTO:+0200
RRULE:FREQ=YEARLY;BYDAY=-1SU;BYMONTH=3
TZNAME:CEST
END:DAYLIGHT
BEGIN:STANDARD
DTSTART:20241027T020000
TZOFFSETFROM:+0200
TZOFFSETTO:+0100
RRULE:FREQ=YEARLY;BYDAY=-1SU;BYMONTH=10
TZNAME:CET
END:STANDARD
END:VTIMEZONE
BEGIN:VEVENT
DTSTAMP:20260424T125759Z
UID:65d5f28b168a9894760657@ist.ac.at
DTSTART:20240411T110000
DTEND:20240411T120000
DESCRIPTION:Speaker: Zenghui Bao\nhosted by Johannes Fink\nAbstract: Circui
 t QED allows the realization of strong and controllable light-matter inter
 action in superconducting circuit at the quantum level in unprecedented de
 tail. This provides a powerful platform to study the manipulation of micro
 wave photon and demonstrate microwave photonic devices applicable in quant
 um network and quantum information processing. This talk will be divided i
 nto two parts to introduce our research on manipulation\, storage\, and ge
 neration of microwave photons in superconducting circuit. In the first par
 t\, I will introduce a versatile and highly scalable approach to prepare g
 eneralized and multipartite cat states for itinerant microwave photon. Thi
 s approach is based on the cavity assisted qubit-photon interaction. With 
 the same interaction\, we have also realized a  single photon transistor i
 n microwave regime with gain up to 53.4dB and extinction ratio above 20dB.
  In the second part\, I will introduce our research based on frequency tun
 able CPW resonator\, including the realization of on-demand storage and re
 trieval of weak coherent microwave photon pulses using a multiresonator qu
 antum memory\, and the demonstration  of a cryogenic coherent microwave pu
 lse generator.
LOCATION:Office Bldg West / Ground floor / Heinzel Seminar Room (I21.EG.101
 )\, ISTA
ORGANIZER:swiddman@ist.ac.at
SUMMARY:Zenghui Bao: Microwave photonic devices in superconducting circuit
URL:https://talks-calendar.ista.ac.at/events/4849
END:VEVENT
END:VCALENDAR
